BEGIN:VCALENDAR
VERSION:2.0
PRODID:-//MAMBO - ECPv6.10.0//NONSGML v1.0//EN
CALSCALE:GREGORIAN
METHOD:PUBLISH
X-ORIGINAL-URL:https://www.mambogota.com
X-WR-CALDESC:Eventos para MAMBO
REFRESH-INTERVAL;VALUE=DURATION:PT1H
X-Robots-Tag:noindex
X-PUBLISHED-TTL:PT1H
BEGIN:VTIMEZONE
TZID:America/Bogota
BEGIN:STANDARD
TZOFFSETFROM:-0500
TZOFFSETTO:-0500
TZNAME:-05
DTSTART:20250101T000000
END:STANDARD
END:VTIMEZONE
BEGIN:VEVENT
DTSTART;TZID=America/Bogota:20250424T100000
DTEND;TZID=America/Bogota:20250930T180000
DTSTAMP:20260419T175427
CREATED:20241217T212042Z
LAST-MODIFIED:20250218T172740Z
UID:23973-1745488800-1759255200@www.mambogota.com
SUMMARY:Travel MAMBO
DESCRIPTION:Los viajes de arte del MAMBO fidelizan a filántropos y coleccionistas mientras generan recursos. En 2025\, Bogotá será el destino\, con agendas culturales que fortalecen sinergias internacionales en el ecosistema artístico.
URL:https://www.mambogota.com/event/travel-mambo/
LOCATION:Museo de Arte Moderno de Bogotá\, Calle 24 # 6-00\, Bogotá\, Bogotá DC\, 110121
ATTACH;FMTTYPE=image/png:https://www.mambogota.com/wp-content/uploads/2024/12/IMG_9003.png
END:VEVENT
END:VCALENDAR